Package: infinityFlow Version: 1.16.0 Command: /Library/Frameworks/R.framework/Resources/bin/R CMD INSTALL infinityFlow StartedAt: 2025-02-03 15:28:42 -0500 (Mon, 03 Feb 2025) EndedAt: 2025-02-03 15:29:46 -0500 (Mon, 03 Feb 2025) EllapsedTime: 64.3 seconds RetCode: 0 Status: OK