Package: infinityFlow Version: 1.16.0 Command: chmod a+r infinityFlow -R && F:\biocbuild\bbs-3.20-bioc\R\bin\R.exe CMD build --keep-empty-dirs --no-resave-data infinityFlow StartedAt: 2025-02-03 19:53:12 -0500 (Mon, 03 Feb 2025) EndedAt: 2025-02-03 19:58:51 -0500 (Mon, 03 Feb 2025) EllapsedTime: 338.8 seconds RetCode: 0 Status: OK PackageFile: infinityFlow_1.16.0.tar.gz PackageFileSize: 1.709 MiB