Package: infinityFlow Version: 1.16.0 Command: /home/biocbuild/R/R/bin/R CMD build --keep-empty-dirs --no-resave-data infinityFlow StartedAt: 2025-02-11 00:15:15 -0000 (Tue, 11 Feb 2025) EndedAt: 2025-02-11 00:15:16 -0000 (Tue, 11 Feb 2025) EllapsedTime: 1.0 seconds RetCode: 1 Status: ERROR PackageFile: None PackageFileSize: NA