Package: intansv Version: 1.46.0 Command: rm -rf intansv.buildbin-libdir && mkdir intansv.buildbin-libdir && /Users/biocbuild/BBS/utils/build-universal.sh intansv_1.46.0.tar.gz /Library/Frameworks/R.framework/Resources/bin/R intansv.buildbin-libdir StartedAt: 2025-02-05 16:18:38 -0500 (Wed, 05 Feb 2025) EndedAt: 2025-02-05 16:19:46 -0500 (Wed, 05 Feb 2025) EllapsedTime: 67.7 seconds RetCode: 0 Status: OK PackageFile: intansv_1.46.0.tgz PackageFileSize: 709.1 KiB