Package: intansv
Version: 1.46.0
Command: /Library/Frameworks/R.framework/Resources/bin/R CMD build --keep-empty-dirs --no-resave-data intansv
StartedAt: 2025-02-18 01:59:43 -0500 (Tue, 18 Feb 2025)
EndedAt: 2025-02-18 02:01:37 -0500 (Tue, 18 Feb 2025)
EllapsedTime: 114.9 seconds
RetCode: 0
Status: OK
PackageFile: intansv_1.46.0.tar.gz
PackageFileSize: 614.2 <A href="http://en.wikipedia.org/wiki/KiB" target="_blank">KiB</A>