Package: intansv
Version: 1.46.0
Command: /Library/Frameworks/R.framework/Resources/bin/R CMD check --install=check:intansv.install-out.txt --library=/Library/Frameworks/R.framework/Resources/library --no-vignettes --timings intansv_1.46.0.tar.gz
StartedAt: 2024-11-19 23:13:36 -0500 (Tue, 19 Nov 2024)
EndedAt: 2024-11-19 23:22:20 -0500 (Tue, 19 Nov 2024)
EllapsedTime: 524.4 seconds
RetCode: 0
Status: OK
CheckDir: intansv.Rcheck
Warnings: 0