Package: intansv
Version: 1.46.0
Command: rm -rf intansv.buildbin-libdir && mkdir intansv.buildbin-libdir && /Users/biocbuild/BBS/utils/build-universal.sh intansv_1.46.0.tar.gz /Library/Frameworks/R.framework/Resources/bin/R intansv.buildbin-libdir
StartedAt: 2025-02-18 12:21:59 -0500 (Tue, 18 Feb 2025)
EndedAt: 2025-02-18 12:23:48 -0500 (Tue, 18 Feb 2025)
EllapsedTime: 109.0 seconds
RetCode: 0
Status: OK
PackageFile: intansv_1.46.0.tgz
PackageFileSize: 709.3 <A href="http://en.wikipedia.org/wiki/KiB" target="_blank">KiB</A>