Package: intansv Version: 1.46.0 Command: /home/biocbuild/bbs-3.20-bioc/R/bin/R CMD check --install=check:intansv.install-out.txt --library=/home/biocbuild/bbs-3.20-bioc/R/site-library --timings intansv_1.46.0.tar.gz StartedAt: 2025-02-03 23:23:49 -0500 (Mon, 03 Feb 2025) EndedAt: 2025-02-03 23:30:43 -0500 (Mon, 03 Feb 2025) EllapsedTime: 414.5 seconds RetCode: 0 Status: OK CheckDir: intansv.Rcheck Warnings: 0