Package: intansv Version: 1.46.0 Command: /home/biocbuild/R/R/bin/R CMD build --keep-empty-dirs --no-resave-data intansv StartedAt: 2025-02-04 00:25:04 -0000 (Tue, 04 Feb 2025) EndedAt: 2025-02-04 00:26:58 -0000 (Tue, 04 Feb 2025) EllapsedTime: 114.0 seconds RetCode: 0 Status: OK PackageFile: intansv_1.46.0.tar.gz PackageFileSize: 610.1 KiB