Package: interactiveDisplay Version: 1.44.0 Command: /Library/Frameworks/R.framework/Resources/bin/R CMD build --keep-empty-dirs --no-resave-data interactiveDisplay StartedAt: 2025-01-31 01:56:49 -0500 (Fri, 31 Jan 2025) EndedAt: 2025-01-31 01:58:08 -0500 (Fri, 31 Jan 2025) EllapsedTime: 78.5 seconds RetCode: 0 Status: OK PackageFile: interactiveDisplay_1.44.0.tar.gz PackageFileSize: 4.567 MiB