Package: interactiveDisplay Version: 1.44.0 Command: /Library/Frameworks/R.framework/Resources/bin/R CMD INSTALL interactiveDisplay StartedAt: 2025-01-30 18:25:38 -0500 (Thu, 30 Jan 2025) EndedAt: 2025-01-30 18:26:05 -0500 (Thu, 30 Jan 2025) EllapsedTime: 27.3 seconds RetCode: 0 Status: OK