Package: interactiveDisplay Version: 1.44.0 Command: rm -rf interactiveDisplay.buildbin-libdir && mkdir interactiveDisplay.buildbin-libdir && /Users/biocbuild/BBS/utils/build-universal.sh interactiveDisplay_1.44.0.tar.gz /Library/Frameworks/R.framework/Resources/bin/R interactiveDisplay.buildbin-libdir StartedAt: 2025-01-31 13:00:46 -0500 (Fri, 31 Jan 2025) EndedAt: 2025-01-31 13:01:42 -0500 (Fri, 31 Jan 2025) EllapsedTime: 55.4 seconds RetCode: 0 Status: OK PackageFile: interactiveDisplay_1.44.0.tgz PackageFileSize: 2.479 MiB