Package: interactiveDisplay Version: 1.44.0 Command: /Library/Frameworks/R.framework/Resources/bin/R CMD build --keep-empty-dirs --no-resave-data interactiveDisplay StartedAt: 2025-01-30 20:03:13 -0500 (Thu, 30 Jan 2025) EndedAt: 2025-01-30 20:05:17 -0500 (Thu, 30 Jan 2025) EllapsedTime: 123.9 seconds RetCode: 0 Status: OK PackageFile: interactiveDisplay_1.44.0.tar.gz PackageFileSize: 4.567 MiB