Package: interactiveDisplay Version: 1.44.0 Command: /home/biocbuild/bbs-3.20-bioc/R/bin/R CMD INSTALL interactiveDisplay StartedAt: 2025-01-30 16:02:50 -0500 (Thu, 30 Jan 2025) EndedAt: 2025-01-30 16:03:11 -0500 (Thu, 30 Jan 2025) EllapsedTime: 21.3 seconds RetCode: 0 Status: OK