Package: interactiveDisplay Version: 1.44.0 Command: rm -rf interactiveDisplay.buildbin-libdir && mkdir interactiveDisplay.buildbin-libdir && F:\biocbuild\bbs-3.20-bioc\R\bin\R.exe CMD INSTALL --build --library=interactiveDisplay.buildbin-libdir interactiveDisplay_1.44.0.tar.gz StartedAt: 2025-01-31 08:52:53 -0500 (Fri, 31 Jan 2025) EndedAt: 2025-01-31 08:54:41 -0500 (Fri, 31 Jan 2025) EllapsedTime: 107.2 seconds RetCode: 0 Status: OK PackageFile: interactiveDisplay_1.44.0.zip PackageFileSize: 2.446 MiB