Package: interactiveDisplay Version: 1.44.0 Command: F:\biocbuild\bbs-3.20-bioc\R\bin\R.exe CMD INSTALL interactiveDisplay StartedAt: 2025-01-30 16:59:53 -0500 (Thu, 30 Jan 2025) EndedAt: 2025-01-30 17:00:24 -0500 (Thu, 30 Jan 2025) EllapsedTime: 30.2 seconds RetCode: 0 Status: OK