Package: interactiveDisplay Version: 1.44.0 Command: /home/biocbuild/R/R/bin/R CMD check --install=check:interactiveDisplay.install-out.txt --library=/home/biocbuild/R/R/site-library --no-vignettes --timings interactiveDisplay_1.44.0.tar.gz StartedAt: 2025-01-31 07:22:38 -0000 (Fri, 31 Jan 2025) EndedAt: 2025-01-31 07:25:50 -0000 (Fri, 31 Jan 2025) EllapsedTime: 192.2 seconds RetCode: 0 Status: OK CheckDir: interactiveDisplay.Rcheck Warnings: 0