Package: interactiveDisplayBase Version: 1.44.0 Command: rm -rf interactiveDisplayBase.buildbin-libdir && mkdir interactiveDisplayBase.buildbin-libdir && /Users/biocbuild/BBS/utils/build-universal.sh interactiveDisplayBase_1.44.0.tar.gz /Library/Frameworks/R.framework/Resources/bin/R interactiveDisplayBase.buildbin-libdir StartedAt: 2025-02-05 16:19:15 -0500 (Wed, 05 Feb 2025) EndedAt: 2025-02-05 16:19:21 -0500 (Wed, 05 Feb 2025) EllapsedTime: 5.6 seconds RetCode: 0 Status: OK PackageFile: interactiveDisplayBase_1.44.0.tgz PackageFileSize: 27.81 KiB