Package: interactiveDisplayBase Version: 1.44.0 Command: /Library/Frameworks/R.framework/Resources/bin/R CMD check --install=check:interactiveDisplayBase.install-out.txt --library=/Library/Frameworks/R.framework/Resources/library --no-vignettes --timings interactiveDisplayBase_1.44.0.tar.gz StartedAt: 2025-02-04 23:16:30 -0500 (Tue, 04 Feb 2025) EndedAt: 2025-02-04 23:17:05 -0500 (Tue, 04 Feb 2025) EllapsedTime: 34.6 seconds RetCode: 0 Status: OK CheckDir: interactiveDisplayBase.Rcheck Warnings: 0