Package: interactiveDisplayBase Version: 1.44.0 Command: rm -rf interactiveDisplayBase.buildbin-libdir && mkdir interactiveDisplayBase.buildbin-libdir && /Users/biocbuild/BBS/utils/build-universal.sh interactiveDisplayBase_1.44.0.tar.gz /Library/Frameworks/R.framework/Resources/bin/R interactiveDisplayBase.buildbin-libdir StartedAt: 2025-01-31 13:00:50 -0500 (Fri, 31 Jan 2025) EndedAt: 2025-01-31 13:00:59 -0500 (Fri, 31 Jan 2025) EllapsedTime: 8.6 seconds RetCode: 0 Status: OK PackageFile: interactiveDisplayBase_1.44.0.tgz PackageFileSize: 27.76 KiB