Package: interactiveDisplayBase Version: 1.44.0 Command: /Library/Frameworks/R.framework/Resources/bin/R CMD INSTALL interactiveDisplayBase StartedAt: 2025-01-30 16:48:33 -0500 (Thu, 30 Jan 2025) EndedAt: 2025-01-30 16:48:40 -0500 (Thu, 30 Jan 2025) EllapsedTime: 7.3 seconds RetCode: 0 Status: OK