Package: interactiveDisplayBase Version: 1.44.0 Command: rm -rf interactiveDisplayBase.buildbin-libdir && mkdir interactiveDisplayBase.buildbin-libdir && F:\biocbuild\bbs-3.20-bioc\R\bin\R.exe CMD INSTALL --build --library=interactiveDisplayBase.buildbin-libdir interactiveDisplayBase_1.44.0.tar.gz StartedAt: 2025-01-31 08:52:56 -0500 (Fri, 31 Jan 2025) EndedAt: 2025-01-31 08:54:31 -0500 (Fri, 31 Jan 2025) EllapsedTime: 94.8 seconds RetCode: 0 Status: OK PackageFile: interactiveDisplayBase_1.44.0.zip PackageFileSize: 34.73 KiB