Package: interactiveDisplayBase Version: 1.44.0 Command: /home/biocbuild/R/R/bin/R CMD check --install=check:interactiveDisplayBase.install-out.txt --library=/home/biocbuild/R/R/site-library --no-vignettes --timings interactiveDisplayBase_1.44.0.tar.gz StartedAt: 2025-01-31 07:22:57 -0000 (Fri, 31 Jan 2025) EndedAt: 2025-01-31 07:23:26 -0000 (Fri, 31 Jan 2025) EllapsedTime: 29.0 seconds RetCode: 0 Status: OK CheckDir: interactiveDisplayBase.Rcheck Warnings: 0