Package: ipdDb Version: 1.24.0 Command: /home/biocbuild/bbs-3.20-bioc/R/bin/R CMD check --install=check:ipdDb.install-out.txt --library=/home/biocbuild/bbs-3.20-bioc/R/site-library --timings ipdDb_1.24.0.tar.gz StartedAt: 2025-02-03 23:27:17 -0500 (Mon, 03 Feb 2025) EndedAt: 2025-02-03 23:29:32 -0500 (Mon, 03 Feb 2025) EllapsedTime: 135.1 seconds RetCode: 0 Status: OK CheckDir: ipdDb.Rcheck Warnings: 0