Package: ipdDb Version: 1.24.0 Command: /home/biocbuild/bbs-3.20-bioc/R/bin/R CMD INSTALL ipdDb StartedAt: 2025-02-03 15:26:49 -0500 (Mon, 03 Feb 2025) EndedAt: 2025-02-03 15:27:03 -0500 (Mon, 03 Feb 2025) EllapsedTime: 15.0 seconds RetCode: 0 Status: OK