Package: ipdDb Version: 1.24.0 Command: /home/biocbuild/R/R/bin/R CMD build --keep-empty-dirs --no-resave-data ipdDb StartedAt: 2025-02-04 00:26:56 -0000 (Tue, 04 Feb 2025) EndedAt: 2025-02-04 00:27:18 -0000 (Tue, 04 Feb 2025) EllapsedTime: 22.0 seconds RetCode: 0 Status: OK PackageFile: ipdDb_1.24.0.tar.gz PackageFileSize: 21.69 KiB