Package: ipdDb Version: 1.24.0 Command: /home/biocbuild/R/R/bin/R CMD check --install=check:ipdDb.install-out.txt --library=/home/biocbuild/R/R/site-library --no-vignettes --timings ipdDb_1.24.0.tar.gz StartedAt: 2025-02-04 08:07:06 -0000 (Tue, 04 Feb 2025) EndedAt: 2025-02-04 08:10:19 -0000 (Tue, 04 Feb 2025) EllapsedTime: 193.2 seconds RetCode: 0 Status: OK CheckDir: ipdDb.Rcheck Warnings: 0