Package: isomiRs Version: 1.34.0 Command: /Library/Frameworks/R.framework/Resources/bin/R CMD build --keep-empty-dirs --no-resave-data isomiRs StartedAt: 2025-02-03 19:51:56 -0500 (Mon, 03 Feb 2025) EndedAt: 2025-02-03 19:55:12 -0500 (Mon, 03 Feb 2025) EllapsedTime: 196.6 seconds RetCode: 0 Status: OK PackageFile: isomiRs_1.34.0.tar.gz PackageFileSize: 4.519 MiB