Package: isomiRs
Version: 1.34.0
Command: /Library/Frameworks/R.framework/Resources/bin/R CMD check --install=check:isomiRs.install-out.txt --library=/Library/Frameworks/R.framework/Resources/library --no-vignettes --timings isomiRs_1.34.0.tar.gz
StartedAt: 2025-02-18 04:54:18 -0500 (Tue, 18 Feb 2025)
EndedAt: 2025-02-18 05:04:02 -0500 (Tue, 18 Feb 2025)
EllapsedTime: 584.3 seconds
RetCode: 0
Status: OK
CheckDir: isomiRs.Rcheck
Warnings: 0