Package: isomiRs Version: 1.34.0 Command: /Library/Frameworks/R.framework/Resources/bin/R CMD INSTALL isomiRs StartedAt: 2025-02-03 15:56:37 -0500 (Mon, 03 Feb 2025) EndedAt: 2025-02-03 15:58:13 -0500 (Mon, 03 Feb 2025) EllapsedTime: 95.8 seconds RetCode: 0 Status: OK