Package: isomiRs Version: 1.34.0 Command: /home/biocbuild/bbs-3.20-bioc/R/bin/R CMD build --keep-empty-dirs --no-resave-data --md5 isomiRs StartedAt: 2025-02-03 17:56:55 -0500 (Mon, 03 Feb 2025) EndedAt: 2025-02-03 17:58:18 -0500 (Mon, 03 Feb 2025) EllapsedTime: 83.1 seconds RetCode: 0 Status: OK PackageFile: isomiRs_1.34.0.tar.gz PackageFileSize: 4.405 MiB