Package: isomiRs Version: 1.34.0 Command: /home/biocbuild/bbs-3.20-bioc/R/bin/R CMD check --install=check:isomiRs.install-out.txt --library=/home/biocbuild/bbs-3.20-bioc/R/site-library --timings isomiRs_1.34.0.tar.gz StartedAt: 2025-02-03 23:31:57 -0500 (Mon, 03 Feb 2025) EndedAt: 2025-02-03 23:37:14 -0500 (Mon, 03 Feb 2025) EllapsedTime: 317.4 seconds RetCode: 0 Status: OK CheckDir: isomiRs.Rcheck Warnings: 0