Package: isomiRs Version: 1.34.0 Command: /home/biocbuild/bbs-3.20-bioc/R/bin/R CMD INSTALL isomiRs StartedAt: 2025-02-03 15:36:02 -0500 (Mon, 03 Feb 2025) EndedAt: 2025-02-03 15:36:47 -0500 (Mon, 03 Feb 2025) EllapsedTime: 45.2 seconds RetCode: 0 Status: OK