Package: isomiRs Version: 1.34.0 Command: rm -rf isomiRs.buildbin-libdir && mkdir isomiRs.buildbin-libdir && F:\biocbuild\bbs-3.20-bioc\R\bin\R.exe CMD INSTALL --build --library=isomiRs.buildbin-libdir isomiRs_1.34.0.tar.gz StartedAt: 2025-02-04 08:46:44 -0500 (Tue, 04 Feb 2025) EndedAt: 2025-02-04 08:48:07 -0500 (Tue, 04 Feb 2025) EllapsedTime: 82.8 seconds RetCode: 0 Status: OK PackageFile: isomiRs_1.34.0.zip PackageFileSize: 2.038 MiB