Package: isomiRs Version: 1.34.0 Command: /home/biocbuild/R/R/bin/R CMD build --keep-empty-dirs --no-resave-data isomiRs StartedAt: 2025-02-04 00:29:51 -0000 (Tue, 04 Feb 2025) EndedAt: 2025-02-04 00:31:46 -0000 (Tue, 04 Feb 2025) EllapsedTime: 115.0 seconds RetCode: 0 Status: OK PackageFile: isomiRs_1.34.0.tar.gz PackageFileSize: 4.146 MiB