Package: isomiRs Version: 1.34.0 Command: /home/biocbuild/R/R/bin/R CMD check --install=check:isomiRs.install-out.txt --library=/home/biocbuild/R/R/site-library --no-vignettes --timings isomiRs_1.34.0.tar.gz StartedAt: 2025-02-04 08:12:33 -0000 (Tue, 04 Feb 2025) EndedAt: 2025-02-04 08:18:08 -0000 (Tue, 04 Feb 2025) EllapsedTime: 334.4 seconds RetCode: 0 Status: OK CheckDir: isomiRs.Rcheck Warnings: 0