Package: isomiRs Version: 1.34.0 Command: /home/biocbuild/R/R/bin/R CMD INSTALL isomiRs StartedAt: 2025-02-03 20:51:07 -0000 (Mon, 03 Feb 2025) EndedAt: 2025-02-03 20:52:04 -0000 (Mon, 03 Feb 2025) EllapsedTime: 56.1 seconds RetCode: 0 Status: OK