Package: isomiRs
Version: 1.34.0
Command: /home/biocbuild/bbs-3.20-bioc/R/bin/R CMD build --keep-empty-dirs --no-resave-data isomiRs
StartedAt: 2024-11-19 19:40:02 -0500 (Tue, 19 Nov 2024)
EndedAt: 2024-11-19 19:41:38 -0500 (Tue, 19 Nov 2024)
EllapsedTime: 95.9 seconds
RetCode: 0
Status: OK
PackageFile: isomiRs_1.34.0.tar.gz
PackageFileSize: 4.401 <A href="http://en.wikipedia.org/wiki/MiB" target="_blank">MiB</A>