Package: iterativeBMA
Version: 1.64.0
Command: /Library/Frameworks/R.framework/Resources/bin/R CMD build --keep-empty-dirs --no-resave-data iterativeBMA
StartedAt: 2024-11-08 17:51:12 -0500 (Fri, 08 Nov 2024)
EndedAt: 2024-11-08 17:51:20 -0500 (Fri, 08 Nov 2024)
EllapsedTime: 8.1 seconds
RetCode: 0
Status: OK
PackageFile: iterativeBMA_1.64.0.tar.gz
PackageFileSize: 159 <A href="http://en.wikipedia.org/wiki/KiB" target="_blank">KiB</A>