Package: iterativeBMA Version: 1.64.0 Command: /Library/Frameworks/R.framework/Resources/bin/R CMD INSTALL iterativeBMA StartedAt: 2024-11-19 15:32:16 -0500 (Tue, 19 Nov 2024) EndedAt: 2024-11-19 15:32:27 -0500 (Tue, 19 Nov 2024) EllapsedTime: 11.1 seconds RetCode: 0 Status: OK