Package: iterativeBMA Version: 1.64.0 Command: /home/biocbuild/bbs-3.20-bioc/R/bin/R CMD INSTALL iterativeBMA StartedAt: 2025-02-03 15:49:39 -0500 (Mon, 03 Feb 2025) EndedAt: 2025-02-03 15:49:46 -0500 (Mon, 03 Feb 2025) EllapsedTime: 6.6 seconds RetCode: 0 Status: OK