Package: iterativeBMA Version: 1.64.0 Command: rm -rf iterativeBMA.buildbin-libdir && mkdir iterativeBMA.buildbin-libdir && F:\biocbuild\bbs-3.20-bioc\R\bin\R.exe CMD INSTALL --build --library=iterativeBMA.buildbin-libdir iterativeBMA_1.64.0.tar.gz StartedAt: 2025-02-04 08:46:47 -0500 (Tue, 04 Feb 2025) EndedAt: 2025-02-04 08:47:12 -0500 (Tue, 04 Feb 2025) EllapsedTime: 24.9 seconds RetCode: 0 Status: OK PackageFile: iterativeBMA_1.64.0.zip PackageFileSize: 220.5 KiB