Package: iterativeBMA Version: 1.64.0 Command: /home/biocbuild/R/R/bin/R CMD check --install=check:iterativeBMA.install-out.txt --library=/home/biocbuild/R/R/site-library --no-vignettes --timings iterativeBMA_1.64.0.tar.gz StartedAt: 2025-02-04 08:13:20 -0000 (Tue, 04 Feb 2025) EndedAt: 2025-02-04 08:14:07 -0000 (Tue, 04 Feb 2025) EllapsedTime: 47.1 seconds RetCode: 0 Status: OK CheckDir: iterativeBMA.Rcheck Warnings: 0