Package: iterativeBMAsurv
Version: 1.64.0
Command: /Library/Frameworks/R.framework/Resources/bin/R CMD build --keep-empty-dirs --no-resave-data iterativeBMAsurv
StartedAt: 2024-11-19 17:22:05 -0500 (Tue, 19 Nov 2024)
EndedAt: 2024-11-19 17:22:34 -0500 (Tue, 19 Nov 2024)
EllapsedTime: 28.7 seconds
RetCode: 0
Status: OK
PackageFile: iterativeBMAsurv_1.64.0.tar.gz
PackageFileSize: 197.6 <A href="http://en.wikipedia.org/wiki/KiB" target="_blank">KiB</A>