Package: iterativeBMAsurv Version: 1.64.0 Command: rm -rf iterativeBMAsurv.buildbin-libdir && mkdir iterativeBMAsurv.buildbin-libdir && /Users/biocbuild/BBS/utils/build-universal.sh iterativeBMAsurv_1.64.0.tar.gz /Library/Frameworks/R.framework/Resources/bin/R iterativeBMAsurv.buildbin-libdir StartedAt: 2025-02-04 13:14:20 -0500 (Tue, 04 Feb 2025) EndedAt: 2025-02-04 13:14:59 -0500 (Tue, 04 Feb 2025) EllapsedTime: 39.6 seconds RetCode: 0 Status: OK PackageFile: iterativeBMAsurv_1.64.0.tgz PackageFileSize: 273.2 KiB