Package: iterativeBMAsurv Version: 1.64.0 Command: /home/biocbuild/bbs-3.20-bioc/R/bin/R CMD build --keep-empty-dirs --no-resave-data --md5 iterativeBMAsurv StartedAt: 2025-02-03 17:57:15 -0500 (Mon, 03 Feb 2025) EndedAt: 2025-02-03 17:57:32 -0500 (Mon, 03 Feb 2025) EllapsedTime: 17.0 seconds RetCode: 0 Status: OK PackageFile: iterativeBMAsurv_1.64.0.tar.gz PackageFileSize: 198.8 KiB