Package: iterativeBMAsurv
Version: 1.63.0
Command: chmod a+r iterativeBMAsurv -R && F:\biocbuild\bbs-3.20-bioc\R\bin\R.exe CMD build --keep-empty-dirs --no-resave-data iterativeBMAsurv
StartedAt: 2024-06-09 19:48:51 -0400 (Sun, 09 Jun 2024)
EndedAt: 2024-06-09 19:49:32 -0400 (Sun, 09 Jun 2024)
EllapsedTime: 40.9 seconds
RetCode: 0
Status: OK
PackageFile: iterativeBMAsurv_1.63.0.tar.gz
PackageFileSize: 198.2 <A href="http://en.wikipedia.org/wiki/KiB" target="_blank">KiB</A>