Package: iterativeBMAsurv Version: 1.64.0 Command: F:\biocbuild\bbs-3.20-bioc\R\bin\R.exe CMD check --no-multiarch --install=check:iterativeBMAsurv.install-out.txt --library=F:\biocbuild\bbs-3.20-bioc\R\library --no-vignettes --timings iterativeBMAsurv_1.64.0.tar.gz StartedAt: 2025-02-04 03:05:45 -0500 (Tue, 04 Feb 2025) EndedAt: 2025-02-04 03:07:48 -0500 (Tue, 04 Feb 2025) EllapsedTime: 123.2 seconds RetCode: 0 Status: WARNINGS CheckDir: iterativeBMAsurv.Rcheck Warnings: 1