Package: iterativeBMAsurv Version: 1.64.0 Command: F:\biocbuild\bbs-3.20-bioc\R\bin\R.exe CMD INSTALL iterativeBMAsurv StartedAt: 2025-02-03 16:08:07 -0500 (Mon, 03 Feb 2025) EndedAt: 2025-02-03 16:08:34 -0500 (Mon, 03 Feb 2025) EllapsedTime: 27.1 seconds RetCode: 0 Status: OK