Package: iterativeBMAsurv Version: 1.64.0 Command: /home/biocbuild/R/R/bin/R CMD check --install=check:iterativeBMAsurv.install-out.txt --library=/home/biocbuild/R/R/site-library --no-vignettes --timings iterativeBMAsurv_1.64.0.tar.gz StartedAt: 2025-02-04 08:13:26 -0000 (Tue, 04 Feb 2025) EndedAt: 2025-02-04 08:15:02 -0000 (Tue, 04 Feb 2025) EllapsedTime: 96.1 seconds RetCode: 0 Status: WARNINGS CheckDir: iterativeBMAsurv.Rcheck Warnings: 1